 BEGIN:VCALENDAR
VERSION:1.0
PRODID:SSPCA Web Calendar
TZ:-07
BEGIN:VEVENT
ORGANIZER:MAILTO: 
SUMMARY;ENCODING=QUOTED-PRINTABLE: 2nd Annual District Energy Asia Summit
LOCATION;ENCODING=QUOTED-PRINTABLE: Beijing
DESCRIPTION;ENCODING=QUOTED-PRINTABLE: More Details£º=0D=0Ahttp://chinaexhibition.com/trade_events/963-2nd_Annual_District_Energy_Asia_Summit.html
DTSTART:20120213T000000Z 
DTEND:20120214T000000Z 
END:VEVENT
END:VCALENDAR