 BEGIN:VCALENDAR
VERSION:1.0
PRODID:SSPCA Web Calendar
TZ:-07
BEGIN:VEVENT
ORGANIZER:MAILTO: info@chinaforexexpo.com
SUMMARY;ENCODING=QUOTED-PRINTABLE: 2018 China Forex Expo (Shenzhen)
LOCATION;ENCODING=QUOTED-PRINTABLE: Shenzhen
DESCRIPTION;ENCODING=QUOTED-PRINTABLE: More Details£º=0D=0Ahttp://chinaexhibition.com/trade_events/9676-2018_China_Forex_Expo_(Shenzhen).html
DTSTART:20180518T000000Z 
DTEND:20180519T000000Z 
END:VEVENT
END:VCALENDAR