 BEGIN:VCALENDAR
VERSION:1.0
PRODID:SSPCA Web Calendar
TZ:-07
BEGIN:VEVENT
ORGANIZER:MAILTO: convertechchina@ics-inc.co.jp; convertechchina@ctiweb.co.jp
SUMMARY;ENCODING=QUOTED-PRINTABLE: 2nd High-function Film Converting Technology Exhibition (Covertech China 2012)
LOCATION;ENCODING=QUOTED-PRINTABLE: Shanghai
DESCRIPTION;ENCODING=QUOTED-PRINTABLE: More Details£º=0D=0A
DTSTART:20120711T000000Z 
DTEND:20120714T000000Z 
END:VEVENT
END:VCALENDAR