 BEGIN:VCALENDAR
VERSION:1.0
PRODID:SSPCA Web Calendar
TZ:-07
BEGIN:VEVENT
ORGANIZER:MAILTO: vivian.hy.lam@hktdc.org;erica.fy.chan@hktdc.org
SUMMARY;ENCODING=QUOTED-PRINTABLE: Hong Kong International Stationery Fair 2019
LOCATION;ENCODING=QUOTED-PRINTABLE: Hong Kong
DESCRIPTION;ENCODING=QUOTED-PRINTABLE: More Details£º=0D=0Ahttp://chinaexhibition.com/trade_events/9749-Hong_Kong_International_Stationery_Fair_2019.html
DTSTART:20190107T000000Z 
DTEND:20190110T000000Z 
END:VEVENT
END:VCALENDAR