 BEGIN:VCALENDAR
VERSION:1.0
PRODID:SSPCA Web Calendar
TZ:-07
BEGIN:VEVENT
ORGANIZER:MAILTO: info-trust@ubm.com
SUMMARY;ENCODING=QUOTED-PRINTABLE: LED CHINA 2019 (Shanghai) - The 16th LED CHINA
LOCATION;ENCODING=QUOTED-PRINTABLE: Shanghai
DESCRIPTION;ENCODING=QUOTED-PRINTABLE: More Details£º=0D=0A
DTSTART:20190918T000000Z 
DTEND:20190920T000000Z 
END:VEVENT
END:VCALENDAR