 BEGIN:VCALENDAR
VERSION:1.0
PRODID:SSPCA Web Calendar
TZ:-07
BEGIN:VEVENT
ORGANIZER:MAILTO: china_pec@163.com;1325083586@qq.com
SUMMARY;ENCODING=QUOTED-PRINTABLE: China PEC 2019 - The 19th China Plastics Exhibition & Conference
LOCATION;ENCODING=QUOTED-PRINTABLE: Taizhou
DESCRIPTION;ENCODING=QUOTED-PRINTABLE: More Details£º=0D=0A
DTSTART:20191011T000000Z 
DTEND:20191014T000000Z 
END:VEVENT
END:VCALENDAR