 BEGIN:VCALENDAR
VERSION:1.0
PRODID:SSPCA Web Calendar
TZ:-07
BEGIN:VEVENT
ORGANIZER:MAILTO: Karmen.Wu@glexpo.com.cn
SUMMARY;ENCODING=QUOTED-PRINTABLE: GILF 2019 - The 24th China (Guzhen) International Lighting Fair 2019
LOCATION;ENCODING=QUOTED-PRINTABLE: Zhongshan
DESCRIPTION;ENCODING=QUOTED-PRINTABLE: More Details£º=0D=0A
DTSTART:20191022T000000Z 
DTEND:20191026T000000Z 
END:VEVENT
END:VCALENDAR