 BEGIN:VCALENDAR
VERSION:1.0
PRODID:SSPCA Web Calendar
TZ:-07
BEGIN:VEVENT
ORGANIZER:MAILTO: exhibitions@hktdc.org
SUMMARY;ENCODING=QUOTED-PRINTABLE: Hong Kong International Lighting Fair 2019 (Autumn Edition)
LOCATION;ENCODING=QUOTED-PRINTABLE: Hong Kong
DESCRIPTION;ENCODING=QUOTED-PRINTABLE: More Details£º=0D=0A
DTSTART:20191027T000000Z 
DTEND:20191030T000000Z 
END:VEVENT
END:VCALENDAR