 BEGIN:VCALENDAR
VERSION:1.0
PRODID:SSPCA Web Calendar
TZ:-07
BEGIN:VEVENT
ORGANIZER:MAILTO: tradevisitors@126.com
SUMMARY;ENCODING=QUOTED-PRINTABLE: AIRSHOW CHINA 2020 - China International Aviation & Aerospace Exhibition 2020
LOCATION;ENCODING=QUOTED-PRINTABLE: Zhuhai
DESCRIPTION;ENCODING=QUOTED-PRINTABLE: More Details£º=0D=0A
DTSTART:20191010T000000Z 
DTEND:20191015T000000Z 
END:VEVENT
END:VCALENDAR