 BEGIN:VCALENDAR
VERSION:1.0
PRODID:SSPCA Web Calendar
TZ:-07
BEGIN:VEVENT
ORGANIZER:MAILTO: acul@mroexpochina.com; info@mroexpochina.com
SUMMARY;ENCODING=QUOTED-PRINTABLE: MRO China Expo 2011
LOCATION;ENCODING=QUOTED-PRINTABLE: Xiamen
DESCRIPTION;ENCODING=QUOTED-PRINTABLE: More Details£º=0D=0Ahttp://chinaexhibition.com/trade_events/996-MRO_China_Expo_2011.html
DTSTART:20111012T000000Z 
DTEND:20111014T000000Z 
END:VEVENT
END:VCALENDAR